BEGIN:VCALENDAR
VERSION:2.0
CALSCALE:GREGORIAN
PRODID:adamgibbons/ics
METHOD:PUBLISH
X-PUBLISHED-TTL:PT1H
BEGIN:VEVENT
UID:8@newfoundlandaskapunk.ca
SUMMARY:Auditing\, Steel Toe\, Jerseyside\, Snipe\, Longmay @ The Peter E
DTSTAMP:20260419T141557Z
DTSTART:20260515T233000Z
DESCRIPTION:Auditing\n\nSteel Toe\n\nJerseyside\n\nSnipe\n\nLongmay\n\n19+ 
	15$/pwyc\n\nMusic @9pm
URL:https://newfoundlandaskapunk.ca/event/auditing-steel-toe-jerseyside-sni
	pe-longmay-the-peter-e
LOCATION:Peter Easton - 29 Cookstown Road
STATUS:CONFIRMED
CATEGORIES:19+
X-ALT-DESC;FMTTYPE=text/html:<p>Auditing </p><p>Steel Toe</p><p>Jerseyside<
	/p><p>Snipe </p><p>Longmay</p><p>19+ 15$/pwyc</p><p>Music @9pm</p>
BEGIN:VALARM
ACTION:DISPLAY
DESCRIPTION:Auditing, Steel Toe, Jerseyside, Snipe, Longmay @ The Peter E
TRIGGER:-PT1H
END:VALARM
END:VEVENT
END:VCALENDAR
