BEGIN:VCALENDAR
VERSION:2.0
CALSCALE:GREGORIAN
PRODID:adamgibbons/ics
METHOD:PUBLISH
X-PUBLISHED-TTL:PT1H
BEGIN:VEVENT
UID:9@newfoundlandaskapunk.ca
SUMMARY:Auditing\, Swimming\, Crusher\, It Chooses You\, Floorwalker
DTSTAMP:20260419T141601Z
DTSTART:20260516T213000Z
DESCRIPTION:Auditing\n\nSwimming\n\nCrusher\n\nIt Chooses You\n\nFloorwalke
	r\n\nAll Ages 10$/pwyc\n\nMusic @7
URL:https://newfoundlandaskapunk.ca/event/auditing-swimming-crusher-it-choo
	ses-you-floorwalker
LOCATION:The Bad Times Club - Ask Around
STATUS:CONFIRMED
CATEGORIES:All Ages
X-ALT-DESC;FMTTYPE=text/html:<p>Auditing</p><p>Swimming</p><p>Crusher</p><p
	>It Chooses You</p><p>Floorwalker </p><p>All Ages 10$/pwyc</p><p>Music @7<
	/p>
BEGIN:VALARM
ACTION:DISPLAY
DESCRIPTION:Auditing, Swimming, Crusher, It Chooses You, Floorwalker
TRIGGER:-PT1H
END:VALARM
END:VEVENT
END:VCALENDAR
