BEGIN:VCALENDAR
VERSION:2.0
CALSCALE:GREGORIAN
PRODID:adamgibbons/ics
METHOD:PUBLISH
X-PUBLISHED-TTL:PT1H
BEGIN:VEVENT
UID:1@newfoundlandaskapunk.ca
SUMMARY:Terminator 19+
DTSTAMP:20260419T153945Z
DTSTART:20260424T213000Z
DTEND:20260425T023000Z
URL:https://newfoundlandaskapunk.ca/event/terminator-19
LOCATION:The Black Sheep - 5 George Street
STATUS:CONFIRMED
CATEGORIES:19+
END:VEVENT
BEGIN:VEVENT
UID:10@newfoundlandaskapunk.ca
SUMMARY:Liz Fagan & Jenina MacGillivray play the songs of Adrianne Lenker
DTSTAMP:20260419T153945Z
DTSTART:20260424T233000Z
URL:https://newfoundlandaskapunk.ca/event/liz-fagan-and-jenina-macgillivray
	-play-the-songs-of-adrianne-lenker
LOCATION:Peter Easton - 29 Cookstown Road
STATUS:CONFIRMED
CATEGORIES:indie,19+
END:VEVENT
BEGIN:VEVENT
UID:6@newfoundlandaskapunk.ca
SUMMARY:Sick Puppy\, Still Ballet\, & Steel Toe @ The Peter E
DTSTAMP:20260419T153945Z
DTSTART:20260501T233000Z
URL:https://newfoundlandaskapunk.ca/event/sick-puppy-still-ballet-and-steel
	-toe-the-peter-e
LOCATION:Peter Easton - 29 Cookstown Road
STATUS:CONFIRMED
CATEGORIES:19+
END:VEVENT
BEGIN:VEVENT
UID:7@newfoundlandaskapunk.ca
SUMMARY:five Band Show(down) Presented by Laxidaisy Productions
DTSTAMP:20260419T153945Z
DTSTART:20260502T230000Z
DTEND:20260503T043000Z
URL:https://newfoundlandaskapunk.ca/event/five-band-showdown-presented-by-l
	axidaisy-productions
LOCATION:Junctions - 208 Water Street
STATUS:CONFIRMED
CATEGORIES:post-hardcore,Post-rock,Punk l,pop punk,indie,19+
END:VEVENT
BEGIN:VEVENT
UID:8@newfoundlandaskapunk.ca
SUMMARY:Auditing\, Steel Toe\, Jerseyside\, Snipe\, Longmay @ The Peter E
DTSTAMP:20260419T153945Z
DTSTART:20260515T233000Z
URL:https://newfoundlandaskapunk.ca/event/auditing-steel-toe-jerseyside-sni
	pe-longmay-the-peter-e
LOCATION:Peter Easton - 29 Cookstown Road
STATUS:CONFIRMED
CATEGORIES:19+
END:VEVENT
END:VCALENDAR
